BEGIN:VCALENDAR
PRODID:-//eluceo/ical//2.0/EN
VERSION:2.0
CALSCALE:GREGORIAN
BEGIN:VEVENT
UID:hey.bayern.694920.6556782
DTSTAMP:20260422T234802Z
SUMMARY:Musikum Schnuppertag
DTSTART;TZID=Europe/Berlin:20260424T150000
DTEND;TZID=Europe/Berlin:20260424T170000
LOCATION:Ramooserstr. 1\, 5163 Mattsee\, Österreich
URL;VALUE=URI:https://lebenswerter-alpenraum.com/events/694920
END:VEVENT
END:VCALENDAR
