BEGIN:VCALENDAR
PRODID:-//eluceo/ical//2.0/EN
VERSION:2.0
CALSCALE:GREGORIAN
BEGIN:VEVENT
UID:hey.bayern.694912.6556754
DTSTAMP:20260424T110409Z
SUMMARY:Meiseldinger Kirchtag
DTSTART;TZID=Europe/Berlin:20260514T100000
DTEND;TZID=Europe/Berlin:20260515T100000
URL;VALUE=URI:https://lebenswerter-alpenraum.com/events/694912
END:VEVENT
END:VCALENDAR
