BEGIN:VCALENDAR
PRODID:-//eluceo/ical//2.0/EN
VERSION:2.0
CALSCALE:GREGORIAN
BEGIN:VEVENT
UID:hey.bayern.694894.6556680
DTSTAMP:20260423T095542Z
SUMMARY:Käseführung auf der Holzalm
DTSTART;TZID=Europe/Berlin:20260730T130000
DTEND;TZID=Europe/Berlin:20260730T235900
LOCATION:6361 Hopfgarten im Brixental\, Österreich
URL;VALUE=URI:https://lebenswerter-alpenraum.com/events/694894
END:VEVENT
END:VCALENDAR
