BEGIN:VCALENDAR
PRODID:-//eluceo/ical//2.0/EN
VERSION:2.0
CALSCALE:GREGORIAN
BEGIN:VEVENT
UID:hey.bayern.694892.6556646
DTSTAMP:20260423T033352Z
SUMMARY:Kreativer Ferienstart: Tonwerkstatt - Formen\, fühlen\, gestalten
DTSTART;TZID=Europe/Berlin:20260714T083000
DTEND;TZID=Europe/Berlin:20260714T120000
LOCATION:Riedholzstraße 15a\, 4910 Ried im Innkreis\, Österreich
GEO:48.213845;13.470928
X-APPLE-STRUCTURED-LOCATION;VALUE=URI;X-ADDRESS=Riedholzstraße 15a\, 4910 
 Ried im Innkreis\, Österreich;X-APPLE-RADIUS=49;X-TITLE=:geo:48.213845,13
 .470928
URL;VALUE=URI:https://lebenswerter-alpenraum.com/events/694892
END:VEVENT
END:VCALENDAR
