BEGIN:VCALENDAR
PRODID:-//eluceo/ical//2.0/EN
VERSION:2.0
CALSCALE:GREGORIAN
BEGIN:VEVENT
UID:hey.bayern.694883.6556613
DTSTAMP:20260423T045805Z
SUMMARY:Kaiserwinkl Classic 10+1
DTSTART;TZID=Europe/Berlin:20260621T100000
DTEND;TZID=Europe/Berlin:20260621T235900
LOCATION:6345 Kössen\, Österreich
GEO:47.669730;12.405720
X-APPLE-STRUCTURED-LOCATION;VALUE=URI;X-ADDRESS=6345 Kössen\, Österreich;
 X-APPLE-RADIUS=49;X-TITLE=:geo:47.669730,12.405720
URL;VALUE=URI:https://lebenswerter-alpenraum.com/events/694883
END:VEVENT
END:VCALENDAR
