BEGIN:VCALENDAR
PRODID:-//eluceo/ical//2.0/EN
VERSION:2.0
CALSCALE:GREGORIAN
BEGIN:VEVENT
UID:hey.bayern.694880.6556567
DTSTAMP:20260423T004926Z
SUMMARY:Im Reich der Wiesenkönigin
DTSTART;TZID=Europe/Berlin:20260517T140000
DTEND;TZID=Europe/Berlin:20260517T173000
LOCATION:Am Kräutergarten 1\, 4163 Klaffer am Hochficht\, Österreich
GEO:48.693920;13.884602
X-APPLE-STRUCTURED-LOCATION;VALUE=URI;X-ADDRESS=Am Kräutergarten 1\, 4163 
 Klaffer am Hochficht\, Österreich;X-APPLE-RADIUS=49;X-TITLE=:geo:48.69392
 0,13.884602
URL;VALUE=URI:https://lebenswerter-alpenraum.com/events/694880
END:VEVENT
END:VCALENDAR
