BEGIN:VCALENDAR
PRODID:-//eluceo/ical//2.0/EN
VERSION:2.0
CALSCALE:GREGORIAN
BEGIN:VEVENT
UID:hey.bayern.694877.6556536
DTSTAMP:20260423T085705Z
SUMMARY:Historische Ortsführung Matrei in Osttirol
DTSTART;TZID=Europe/Berlin:20260427T153000
DTEND;TZID=Europe/Berlin:20260427T163000
LOCATION:9971 Matrei in Osttirol\, Österreich
GEO:47.000970;12.538200
X-APPLE-STRUCTURED-LOCATION;VALUE=URI;X-ADDRESS=9971 Matrei in Osttirol\, 
 Österreich;X-APPLE-RADIUS=49;X-TITLE=:geo:47.000970,12.538200
URL;VALUE=URI:https://lebenswerter-alpenraum.com/events/694877
END:VEVENT
END:VCALENDAR
