BEGIN:VCALENDAR
PRODID:-//eluceo/ical//2.0/EN
VERSION:2.0
CALSCALE:GREGORIAN
BEGIN:VEVENT
UID:hey.bayern.694873.6556469
DTSTAMP:20260424T073110Z
SUMMARY:Graz erzählt: Schlossträume
DTSTART;TZID=Europe/Berlin:20260524T091500
DTEND;TZID=Europe/Berlin:20260524T171500
LOCATION:Europaplatz 4\, 8020 Graz\, Österreich
URL;VALUE=URI:https://lebenswerter-alpenraum.com/events/694873
END:VEVENT
END:VCALENDAR
