BEGIN:VCALENDAR
PRODID:-//eluceo/ical//2.0/EN
VERSION:2.0
CALSCALE:GREGORIAN
BEGIN:VEVENT
UID:hey.bayern.694856.6556348
DTSTAMP:20260423T085705Z
SUMMARY:Führung in der Islitzer Mühle
DTSTART;TZID=Europe/Berlin:20260818T173000
DTEND;TZID=Europe/Berlin:20260818T193000
LOCATION:9974 Prägraten am Großvenediger\, Österreich
URL;VALUE=URI:https://lebenswerter-alpenraum.com/events/694856
END:VEVENT
END:VCALENDAR
