BEGIN:VCALENDAR
PRODID:-//eluceo/ical//2.0/EN
VERSION:2.0
CALSCALE:GREGORIAN
BEGIN:VEVENT
UID:hey.bayern.694829.6556162
DTSTAMP:20260423T031322Z
SUMMARY:Bezirkswertungsspiel des Musikbezirks Landeck
DTSTART;TZID=Europe/Berlin:20260425T090000
DTEND;TZID=Europe/Berlin:20260425T235900
LOCATION:6555 Kappl\, Österreich
GEO:47.063320;10.375160
X-APPLE-STRUCTURED-LOCATION;VALUE=URI;X-ADDRESS=6555 Kappl\, Österreich;X-
 APPLE-RADIUS=49;X-TITLE=:geo:47.063320,10.375160
URL;VALUE=URI:https://lebenswerter-alpenraum.com/events/694829
END:VEVENT
END:VCALENDAR
