BEGIN:VCALENDAR
PRODID:-//eluceo/ical//2.0/EN
VERSION:2.0
CALSCALE:GREGORIAN
BEGIN:VEVENT
UID:hey.bayern.694788.6557069
DTSTAMP:20260424T110407Z
SUMMARY:Würmlacher Kirchtag
DTSTART;TZID=Europe/Berlin:20260808T143000
DTEND;TZID=Europe/Berlin:20260809T143000
LOCATION:Würmlach 113\, 9640 Kötschach-Mauthen\, Österreich
GEO:46.658689;13.012296
X-APPLE-STRUCTURED-LOCATION;VALUE=URI;X-ADDRESS=Würmlach 113\, 9640 Kötsc
 hach-Mauthen\, Österreich;X-APPLE-RADIUS=49;X-TITLE=:geo:46.658689,13.012
 296
URL;VALUE=URI:https://lebenswerter-alpenraum.com/events/694788
END:VEVENT
END:VCALENDAR
