BEGIN:VCALENDAR
PRODID:-//eluceo/ical//2.0/EN
VERSION:2.0
CALSCALE:GREGORIAN
BEGIN:VEVENT
UID:hey.bayern.694786.6555979
DTSTAMP:20260423T000534Z
SUMMARY:Wooden Structures - Die Zukunft auf dem Prüfstand
DTSTART;TZID=Europe/Berlin:20260626T120000
DTEND;TZID=Europe/Berlin:20260626T170000
LOCATION:Sinnhubstraße 3\, 5020 Salzburg\, Österreich
URL;VALUE=URI:https://lebenswerter-alpenraum.com/events/694786
END:VEVENT
END:VCALENDAR
