BEGIN:VCALENDAR
PRODID:-//eluceo/ical//2.0/EN
VERSION:2.0
CALSCALE:GREGORIAN
BEGIN:VEVENT
UID:hey.bayern.694781.6555848
DTSTAMP:20260422T215704Z
SUMMARY:Waldmeditaion in der Hängematte
DTSTART;TZID=Europe/Berlin:20260506T183000
DTEND;TZID=Europe/Berlin:20260506T235900
LOCATION:Hoheneck 38\, 4574 Vorderstoder\, Österreich
GEO:47.706668;14.229150
X-APPLE-STRUCTURED-LOCATION;VALUE=URI;X-ADDRESS=Hoheneck 38\, 4574 Vorderst
 oder\, Österreich;X-APPLE-RADIUS=49;X-TITLE=:geo:47.706668,14.229150
URL;VALUE=URI:https://lebenswerter-alpenraum.com/events/694781
END:VEVENT
END:VCALENDAR
