BEGIN:VCALENDAR
PRODID:-//eluceo/ical//2.0/EN
VERSION:2.0
CALSCALE:GREGORIAN
BEGIN:VEVENT
UID:hey.bayern.694772.6555819
DTSTAMP:20260422T215706Z
SUMMARY:The Cellar - Punk Rock
DTSTART;TZID=Europe/Berlin:20260424T200000
DTEND;TZID=Europe/Berlin:20260424T235900
LOCATION:Hauptstraße 9a\, 4580 Windischgarsten\, Österreich
GEO:47.722251;14.327941
X-APPLE-STRUCTURED-LOCATION;VALUE=URI;X-ADDRESS=Hauptstraße 9a\, 4580 Wind
 ischgarsten\, Österreich;X-APPLE-RADIUS=49;X-TITLE=:geo:47.722251,14.3279
 41
URL;VALUE=URI:https://lebenswerter-alpenraum.com/events/694772
END:VEVENT
END:VCALENDAR
