BEGIN:VCALENDAR
PRODID:-//eluceo/ical//2.0/EN
VERSION:2.0
CALSCALE:GREGORIAN
BEGIN:VEVENT
UID:hey.bayern.694761.6555787
DTSTAMP:20260423T021100Z
SUMMARY:Schlossdetektive aufgepasst!
DTSTART;TZID=Europe/Berlin:20261024T190000
DTEND;TZID=Europe/Berlin:20261024T203000
LOCATION:Greinburg 1\, 4360 Grein\, Österreich
GEO:48.227178;14.855195
X-APPLE-STRUCTURED-LOCATION;VALUE=URI;X-ADDRESS=Greinburg 1\, 4360 Grein\, 
 Österreich;X-APPLE-RADIUS=49;X-TITLE=:geo:48.227178,14.855195
URL;VALUE=URI:https://lebenswerter-alpenraum.com/events/694761
END:VEVENT
END:VCALENDAR
