BEGIN:VCALENDAR
PRODID:-//eluceo/ical//2.0/EN
VERSION:2.0
CALSCALE:GREGORIAN
BEGIN:VEVENT
UID:hey.bayern.694744.6554698
DTSTAMP:20260422T115111Z
SUMMARY:Namasté am Prebersee
DTSTART;TZID=Europe/Berlin:20260711T083000
DTEND;TZID=Europe/Berlin:20260711T094500
LOCATION:Murgasse 13\, 5580 Tamsweg\, Österreich
URL;VALUE=URI:https://lebenswerter-alpenraum.com/events/694744
END:VEVENT
END:VCALENDAR
