BEGIN:VCALENDAR
PRODID:-//eluceo/ical//2.0/EN
VERSION:2.0
CALSCALE:GREGORIAN
BEGIN:VEVENT
UID:hey.bayern.694743.6556783
DTSTAMP:20260422T230516Z
SUMMARY:My Ugly Clementine
DTSTART;TZID=Europe/Berlin:20261028T190000
DTEND;TZID=Europe/Berlin:20261028T213000
LOCATION:Posthofstraße 43\, 4020 Linz\, Österreich
GEO:48.311643;14.311581
X-APPLE-STRUCTURED-LOCATION;VALUE=URI;X-ADDRESS=Posthofstraße 43\, 4020 Li
 nz\, Österreich;X-APPLE-RADIUS=49;X-TITLE=:geo:48.311643,14.311581
URL;VALUE=URI:https://lebenswerter-alpenraum.com/events/694743
END:VEVENT
END:VCALENDAR
