BEGIN:VCALENDAR
PRODID:-//eluceo/ical//2.0/EN
VERSION:2.0
CALSCALE:GREGORIAN
BEGIN:VEVENT
UID:hey.bayern.694674.6554247
DTSTAMP:20260422T115109Z
SUMMARY:Eucharistische Anbetung
DTSTART;TZID=Europe/Berlin:20260827T193000
DTEND;TZID=Europe/Berlin:20260827T203000
LOCATION:Markt 106\, 5570 Mauterndorf\, Österreich
URL;VALUE=URI:https://lebenswerter-alpenraum.com/events/694674
END:VEVENT
END:VCALENDAR
