BEGIN:VCALENDAR
PRODID:-//eluceo/ical//2.0/EN
VERSION:2.0
CALSCALE:GREGORIAN
BEGIN:VEVENT
UID:hey.bayern.694669.6554228
DTSTAMP:20260422T224531Z
SUMMARY:ETTU Europe Cup Women 2026
DTSTART;TZID=Europe/Berlin:20260425T150000
DTEND;TZID=Europe/Berlin:20260425T235900
LOCATION:Hausleitnerweg 105\, 4020 Linz\, Österreich
GEO:48.268563;14.298311
X-APPLE-STRUCTURED-LOCATION;VALUE=URI;X-ADDRESS=Hausleitnerweg 105\, 4020 L
 inz\, Österreich;X-APPLE-RADIUS=49;X-TITLE=:geo:48.268563,14.298311
URL;VALUE=URI:https://lebenswerter-alpenraum.com/events/694669
END:VEVENT
END:VCALENDAR
