BEGIN:VCALENDAR
PRODID:-//eluceo/ical//2.0/EN
VERSION:2.0
CALSCALE:GREGORIAN
BEGIN:VEVENT
UID:hey.bayern.694662.6554218
DTSTAMP:20260423T024613Z
SUMMARY:DSLAM Night Shift - der IT-Slam
DTSTART;TZID=Europe/Berlin:20260701T190000
DTEND;TZID=Europe/Berlin:20260701T235900
LOCATION:Landstraße 36\, 4020 Linz\, Österreich
GEO:48.301418;14.289631
X-APPLE-STRUCTURED-LOCATION;VALUE=URI;X-ADDRESS=Landstraße 36\, 4020 Linz\
 , Österreich;X-APPLE-RADIUS=49;X-TITLE=:geo:48.301418,14.289631
URL;VALUE=URI:https://lebenswerter-alpenraum.com/events/694662
END:VEVENT
END:VCALENDAR
