BEGIN:VCALENDAR
PRODID:-//eluceo/ical//2.0/EN
VERSION:2.0
CALSCALE:GREGORIAN
BEGIN:VEVENT
UID:hey.bayern.694601.6553370
DTSTAMP:20260420T073914Z
SUMMARY:Sound Session mit Logafyah
DTSTART;TZID=Europe/Berlin:20260516T160000
DTEND;TZID=Europe/Berlin:20260516T235900
LOCATION:6380 St. Johann in Tirol\, Österreich
URL;VALUE=URI:https://lebenswerter-alpenraum.com/events/694601
END:VEVENT
END:VCALENDAR
