BEGIN:VCALENDAR
PRODID:-//eluceo/ical//2.0/EN
VERSION:2.0
CALSCALE:GREGORIAN
BEGIN:VEVENT
UID:hey.bayern.694599.6553363
DTSTAMP:20260420T073912Z
SUMMARY:Repair Café
DTSTART;TZID=Europe/Berlin:20260424T140000
DTEND;TZID=Europe/Berlin:20260424T180000
LOCATION:6380 St. Johann in Tirol\, Österreich
GEO:47.525900;12.423370
X-APPLE-STRUCTURED-LOCATION;VALUE=URI;X-ADDRESS=6380 St. Johann in Tirol\, 
 Österreich;X-APPLE-RADIUS=49;X-TITLE=:geo:47.525900,12.423370
URL;VALUE=URI:https://lebenswerter-alpenraum.com/events/694599
END:VEVENT
END:VCALENDAR
