BEGIN:VCALENDAR
PRODID:-//eluceo/ical//2.0/EN
VERSION:2.0
CALSCALE:GREGORIAN
BEGIN:VEVENT
UID:hey.bayern.694567.6553037
DTSTAMP:20260420T074021Z
SUMMARY:Mental Health Treffen
DTSTART;TZID=Europe/Berlin:20260504T193000
DTEND;TZID=Europe/Berlin:20260504T235900
LOCATION:6380 St. Johann in Tirol\, Österreich
URL;VALUE=URI:https://lebenswerter-alpenraum.com/events/694567
END:VEVENT
END:VCALENDAR
