BEGIN:VCALENDAR
PRODID:-//eluceo/ical//2.0/EN
VERSION:2.0
CALSCALE:GREGORIAN
BEGIN:VEVENT
UID:hey.bayern.694553.6552994
DTSTAMP:20260420T090119Z
SUMMARY:Genusswanderung auf nach Mitteregg
DTSTART;TZID=Europe/Berlin:20260729T100000
DTEND;TZID=Europe/Berlin:20260729T140000
LOCATION:6622 Berwang\, Österreich
GEO:47.409360;10.746410
X-APPLE-STRUCTURED-LOCATION;VALUE=URI;X-ADDRESS=6622 Berwang\, Österreich;
 X-APPLE-RADIUS=49;X-TITLE=:geo:47.409360,10.746410
URL;VALUE=URI:https://lebenswerter-alpenraum.com/events/694553
END:VEVENT
END:VCALENDAR
