BEGIN:VCALENDAR
PRODID:-//eluceo/ical//2.0/EN
VERSION:2.0
CALSCALE:GREGORIAN
BEGIN:VEVENT
UID:hey.bayern.694550.6552981
DTSTAMP:20260420T074011Z
SUMMARY:Gartenfest beim Weltladen
DTSTART;TZID=Europe/Berlin:20260508T100000
DTEND;TZID=Europe/Berlin:20260508T160000
LOCATION:6380 St. Johann in Tirol\, Österreich
GEO:47.520540;12.425800
X-APPLE-STRUCTURED-LOCATION;VALUE=URI;X-ADDRESS=6380 St. Johann in Tirol\, 
 Österreich;X-APPLE-RADIUS=49;X-TITLE=:geo:47.520540,12.425800
URL;VALUE=URI:https://lebenswerter-alpenraum.com/events/694550
END:VEVENT
END:VCALENDAR
