BEGIN:VCALENDAR
PRODID:-//eluceo/ical//2.0/EN
VERSION:2.0
CALSCALE:GREGORIAN
BEGIN:VEVENT
UID:hey.bayern.694548.6552978
DTSTAMP:20260420T084928Z
SUMMARY:Familien-Sommerfest
DTSTART;TZID=Europe/Berlin:20260621T140000
DTEND;TZID=Europe/Berlin:20260621T190000
LOCATION:6260 Bruck am Ziller\, Österreich
GEO:47.390270;11.849640
X-APPLE-STRUCTURED-LOCATION;VALUE=URI;X-ADDRESS=6260 Bruck am Ziller\, Öst
 erreich;X-APPLE-RADIUS=49;X-TITLE=:geo:47.390270,11.849640
URL;VALUE=URI:https://lebenswerter-alpenraum.com/events/694548
END:VEVENT
END:VCALENDAR
