BEGIN:VCALENDAR
PRODID:-//eluceo/ical//2.0/EN
VERSION:2.0
CALSCALE:GREGORIAN
BEGIN:VEVENT
UID:hey.bayern.694545.6552932
DTSTAMP:20260420T072128Z
SUMMARY:DIE OLDIES live & acoustic
DTSTART;TZID=Europe/Berlin:20260518T200000
DTEND;TZID=Europe/Berlin:20260518T235900
LOCATION:6272 Kaltenbach\, Österreich
URL;VALUE=URI:https://lebenswerter-alpenraum.com/events/694545
END:VEVENT
END:VCALENDAR
