BEGIN:VCALENDAR
PRODID:-//eluceo/ical//2.0/EN
VERSION:2.0
CALSCALE:GREGORIAN
BEGIN:VEVENT
UID:hey.bayern.694537.6552747
DTSTAMP:20260420T084836Z
SUMMARY:Aktiv Wellness - Waldbaden
DTSTART;TZID=Europe/Berlin:20260626T150000
DTEND;TZID=Europe/Berlin:20260626T170000
LOCATION:6281 Gerlos\, Österreich
GEO:47.226250;12.041140
X-APPLE-STRUCTURED-LOCATION;VALUE=URI;X-ADDRESS=6281 Gerlos\, Österreich;X
 -APPLE-RADIUS=49;X-TITLE=:geo:47.226250,12.041140
URL;VALUE=URI:https://lebenswerter-alpenraum.com/events/694537
END:VEVENT
END:VCALENDAR
