BEGIN:VCALENDAR
PRODID:-//eluceo/ical//2.0/EN
VERSION:2.0
CALSCALE:GREGORIAN
BEGIN:VEVENT
UID:hey.bayern.694504.6552368
DTSTAMP:20260420T072127Z
SUMMARY:Saisoneröffnung Gaisalm
DTSTART;TZID=Europe/Berlin:20260503T110000
DTEND;TZID=Europe/Berlin:20260503T235900
LOCATION:6215 Achenkirch\, Österreich
GEO:47.476730;11.701900
X-APPLE-STRUCTURED-LOCATION;VALUE=URI;X-ADDRESS=6215 Achenkirch\, Österrei
 ch;X-APPLE-RADIUS=49;X-TITLE=:geo:47.476730,11.701900
URL;VALUE=URI:https://lebenswerter-alpenraum.com/events/694504
END:VEVENT
END:VCALENDAR
