BEGIN:VCALENDAR
PRODID:-//eluceo/ical//2.0/EN
VERSION:2.0
CALSCALE:GREGORIAN
BEGIN:VEVENT
UID:hey.bayern.694485.6552074
DTSTAMP:20260420T072128Z
SUMMARY:Maifest Steinberg
DTSTART;TZID=Europe/Berlin:20260501T113000
DTEND;TZID=Europe/Berlin:20260501T235900
LOCATION:6215 Steinberg am Rofan\, Österreich
GEO:47.514130;11.801320
X-APPLE-STRUCTURED-LOCATION;VALUE=URI;X-ADDRESS=6215 Steinberg am Rofan\, 
 Österreich;X-APPLE-RADIUS=49;X-TITLE=:geo:47.514130,11.801320
URL;VALUE=URI:https://lebenswerter-alpenraum.com/events/694485
END:VEVENT
END:VCALENDAR
