BEGIN:VCALENDAR
PRODID:-//eluceo/ical//2.0/EN
VERSION:2.0
CALSCALE:GREGORIAN
BEGIN:VEVENT
UID:hey.bayern.694456.6552001
DTSTAMP:20260420T163034Z
SUMMARY:Konzert `Verborgene Welten´
DTSTART;TZID=Europe/Berlin:20260619T190000
DTEND;TZID=Europe/Berlin:20260619T235959
LOCATION:Seestraße 20\, 5303 Thalgau\, Österreich
URL;VALUE=URI:https://lebenswerter-alpenraum.com/events/694456
END:VEVENT
END:VCALENDAR
