BEGIN:VCALENDAR
PRODID:-//eluceo/ical//2.0/EN
VERSION:2.0
CALSCALE:GREGORIAN
BEGIN:VEVENT
UID:hey.bayern.694439.6551635
DTSTAMP:20260420T025600Z
SUMMARY:Hollerstauden-Konzert - Aller guten Dinge sind drei
DTSTART;TZID=Europe/Berlin:20261003T190000
DTEND;TZID=Europe/Berlin:20261003T235959
LOCATION:Hollersbach 10\, 5731 Hollersbach im Pinzgau\, Österreich
URL;VALUE=URI:https://lebenswerter-alpenraum.com/events/694439
END:VEVENT
END:VCALENDAR
