BEGIN:VCALENDAR
PRODID:-//eluceo/ical//2.0/EN
VERSION:2.0
CALSCALE:GREGORIAN
BEGIN:VEVENT
UID:hey.bayern.694428.6551433
DTSTAMP:20260420T025555Z
SUMMARY:First Mover Tour
DTSTART;TZID=Europe/Berlin:20260427T180000
DTEND;TZID=Europe/Berlin:20260427T235959
LOCATION:Hochkönigstraße 1c\, 5760 Saalfelden am Steinernen Meer\, Öster
 reich
URL;VALUE=URI:https://lebenswerter-alpenraum.com/events/694428
END:VEVENT
END:VCALENDAR
