BEGIN:VCALENDAR
PRODID:-//eluceo/ical//2.0/EN
VERSION:2.0
CALSCALE:GREGORIAN
BEGIN:VEVENT
UID:hey.bayern.694401.6551219
DTSTAMP:20260420T072128Z
SUMMARY:Ausstellungseröffnung "Achensee trifft Tegernsee"
DTSTART;TZID=Europe/Berlin:20260516T183000
DTEND;TZID=Europe/Berlin:20260516T235900
LOCATION:6215 Achenkirch\, Österreich
GEO:47.526850;11.706900
X-APPLE-STRUCTURED-LOCATION;VALUE=URI;X-ADDRESS=6215 Achenkirch\, Österrei
 ch;X-APPLE-RADIUS=49;X-TITLE=:geo:47.526850,11.706900
URL;VALUE=URI:https://lebenswerter-alpenraum.com/events/694401
END:VEVENT
END:VCALENDAR
