BEGIN:VCALENDAR
PRODID:-//eluceo/ical//2.0/EN
VERSION:2.0
CALSCALE:GREGORIAN
BEGIN:VEVENT
UID:hey.bayern.694390.6551148
DTSTAMP:20260420T163031Z
SUMMARY:13. Musiktage Hundsmarktmühle
DTSTART;TZID=Europe/Berlin:20260618T190000
DTEND;TZID=Europe/Berlin:20260618T235959
LOCATION:Seestraße 20\, 5303 Thalgau\, Österreich
URL;VALUE=URI:https://lebenswerter-alpenraum.com/events/694390
END:VEVENT
END:VCALENDAR
