BEGIN:VCALENDAR
PRODID:-//eluceo/ical//2.0/EN
VERSION:2.0
CALSCALE:GREGORIAN
BEGIN:VEVENT
UID:hey.bayern.694324.6550816
DTSTAMP:20260420T054009Z
SUMMARY:Pint of Science Festival
DTSTART;TZID=Europe/Berlin:20260520T190000
DTEND;TZID=Europe/Berlin:20260520T210000
LOCATION:6020 Innsbruck\, Österreich
URL;VALUE=URI:https://lebenswerter-alpenraum.com/events/694324
END:VEVENT
END:VCALENDAR
