BEGIN:VCALENDAR
PRODID:-//eluceo/ical//2.0/EN
VERSION:2.0
CALSCALE:GREGORIAN
BEGIN:VEVENT
UID:hey.bayern.694260.6550593
DTSTAMP:20260420T072127Z
SUMMARY:Kegelweltmeisterschaft
DTSTART;TZID=Europe/Berlin:20260523T060000
DTEND;TZID=Europe/Berlin:20260523T130000
LOCATION:6135 Stans\, Österreich
URL;VALUE=URI:https://lebenswerter-alpenraum.com/events/694260
END:VEVENT
END:VCALENDAR
