BEGIN:VCALENDAR
PRODID:-//eluceo/ical//2.0/EN
VERSION:2.0
CALSCALE:GREGORIAN
BEGIN:VEVENT
UID:hey.bayern.694228.6550459
DTSTAMP:20260420T074011Z
SUMMARY:Frühschoppen der Musikkapelle Piller
DTSTART;TZID=Europe/Berlin:20260628T110000
DTEND;TZID=Europe/Berlin:20260628T235900
LOCATION:6473 Wenns\, Österreich
GEO:47.135520;10.693630
X-APPLE-STRUCTURED-LOCATION;VALUE=URI;X-ADDRESS=6473 Wenns\, Österreich;X-
 APPLE-RADIUS=49;X-TITLE=:geo:47.135520,10.693630
URL;VALUE=URI:https://lebenswerter-alpenraum.com/events/694228
END:VEVENT
END:VCALENDAR
