BEGIN:VCALENDAR
PRODID:-//eluceo/ical//2.0/EN
VERSION:2.0
CALSCALE:GREGORIAN
BEGIN:VEVENT
UID:hey.bayern.694045.6549077
DTSTAMP:20260421T014305Z
SUMMARY:Musiksommer Neustift: Konzert für Saxophon\, Trompete\, Posaune\, 
 Tuba\, Flöte
DTSTART;TZID=Europe/Berlin:20260825T203000
DTEND;TZID=Europe/Berlin:20260825T235900
LOCATION:6167 Neustift im Stubaital\, Österreich
URL;VALUE=URI:https://lebenswerter-alpenraum.com/events/694045
END:VEVENT
END:VCALENDAR
