BEGIN:VCALENDAR
PRODID:-//eluceo/ical//2.0/EN
VERSION:2.0
CALSCALE:GREGORIAN
BEGIN:VEVENT
UID:hey.bayern.694039.6549071
DTSTAMP:20260421T014306Z
SUMMARY:Musiksommer Neustift: Konzert für Cello und Marimba
DTSTART;TZID=Europe/Berlin:20260915T203000
DTEND;TZID=Europe/Berlin:20260915T235900
LOCATION:6167 Neustift im Stubaital\, Österreich
URL;VALUE=URI:https://lebenswerter-alpenraum.com/events/694039
END:VEVENT
END:VCALENDAR
