BEGIN:VCALENDAR
PRODID:-//eluceo/ical//2.0/EN
VERSION:2.0
CALSCALE:GREGORIAN
BEGIN:VEVENT
UID:hey.bayern.694021.6549016
DTSTAMP:20260424T010515Z
SUMMARY:Kunstausstellung UTOPIA 5020
DTSTART;TZID=Europe/Berlin:20260516T100000
DTEND;TZID=Europe/Berlin:20260516T235959
LOCATION:Hellbrunnerstraße 3\, 5020 Salzburg\, Österreich
URL;VALUE=URI:https://lebenswerter-alpenraum.com/events/694021
END:VEVENT
END:VCALENDAR
