BEGIN:VCALENDAR
PRODID:-//eluceo/ical//2.0/EN
VERSION:2.0
CALSCALE:GREGORIAN
BEGIN:VEVENT
UID:hey.bayern.693986.6548699
DTSTAMP:20260420T040725Z
SUMMARY:Gameday AFC Schwaz Hammers vs Cineplexx Blue Devils
DTSTART;TZID=Europe/Berlin:20260628T120000
DTEND;TZID=Europe/Berlin:20260628T150000
LOCATION:6130 Schwaz\, Österreich
URL;VALUE=URI:https://lebenswerter-alpenraum.com/events/693986
END:VEVENT
END:VCALENDAR
