BEGIN:VCALENDAR
PRODID:-//eluceo/ical//2.0/EN
VERSION:2.0
CALSCALE:GREGORIAN
BEGIN:VEVENT
UID:hey.bayern.693626.6545816
DTSTAMP:20260422T233246Z
SUMMARY:Bienenlehrpfad-Führung am Pillersee
DTSTART;TZID=Europe/Berlin:20260602T100000
DTEND;TZID=Europe/Berlin:20260602T113000
URL;VALUE=URI:https://lebenswerter-alpenraum.com/events/693626
END:VEVENT
END:VCALENDAR
