BEGIN:VCALENDAR
PRODID:-//eluceo/ical//2.0/EN
VERSION:2.0
CALSCALE:GREGORIAN
BEGIN:VEVENT
UID:hey.bayern.693256.6542347
DTSTAMP:20260421T014403Z
SUMMARY:Vereine Open Air
DTSTART;TZID=Europe/Berlin:20260808T170000
DTEND;TZID=Europe/Berlin:20260808T235900
URL;VALUE=URI:https://lebenswerter-alpenraum.com/events/693256
END:VEVENT
END:VCALENDAR
