BEGIN:VCALENDAR
PRODID:-//eluceo/ical//2.0/EN
VERSION:2.0
CALSCALE:GREGORIAN
BEGIN:VEVENT
UID:hey.bayern.693229.6542135
DTSTAMP:20260424T010509Z
SUMMARY:Salzburger Museumswochenende im Spielzeug Museum
DTSTART;TZID=Europe/Berlin:20260516T100000
DTEND;TZID=Europe/Berlin:20260516T170000
LOCATION:Bürgerspitalgasse 2\, 5020 Salzburg\, Österreich
GEO:47.799835;13.039860
X-APPLE-STRUCTURED-LOCATION;VALUE=URI;X-ADDRESS=Bürgerspitalgasse 2\, 5020
  Salzburg\, Österreich;X-APPLE-RADIUS=49;X-TITLE=:geo:47.799835,13.039860
URL;VALUE=URI:https://lebenswerter-alpenraum.com/events/693229
END:VEVENT
END:VCALENDAR
