BEGIN:VCALENDAR
PRODID:-//eluceo/ical//2.0/EN
VERSION:2.0
CALSCALE:GREGORIAN
BEGIN:VEVENT
UID:hey.bayern.692328.6535216
DTSTAMP:20260424T110415Z
SUMMARY:Berndt Luef & Jazztett Forum
DTSTART;TZID=Europe/Berlin:20260515T200000
DTEND;TZID=Europe/Berlin:20260515T235959
URL;VALUE=URI:https://lebenswerter-alpenraum.com/events/692328
END:VEVENT
END:VCALENDAR
