BEGIN:VCALENDAR
PRODID:-//eluceo/ical//2.0/EN
VERSION:2.0
CALSCALE:GREGORIAN
BEGIN:VEVENT
UID:hey.bayern.691843.6549465
DTSTAMP:20260423T111433Z
SUMMARY:Werbeschau der Kleintierzüchter
DTSTART;TZID=Europe/Berlin:20260425T090000
DTEND;TZID=Europe/Berlin:20260425T160000
LOCATION:6166 Fulpmes\, Österreich
GEO:47.169950;11.381820
X-APPLE-STRUCTURED-LOCATION;VALUE=URI;X-ADDRESS=6166 Fulpmes\, Österreich;
 X-APPLE-RADIUS=49;X-TITLE=:geo:47.169950,11.381820
URL;VALUE=URI:https://lebenswerter-alpenraum.com/events/691843
END:VEVENT
END:VCALENDAR
