BEGIN:VCALENDAR
PRODID:-//eluceo/ical//2.0/EN
VERSION:2.0
CALSCALE:GREGORIAN
BEGIN:VEVENT
UID:hey.bayern.687286.6547253
DTSTAMP:20260422T221824Z
SUMMARY:Maibaum aufstellen
DTSTART;TZID=Europe/Berlin:20260502T134500
DTEND;TZID=Europe/Berlin:20260502T180000
LOCATION:6691 Jungholz\, Österreich
GEO:47.572990;10.447990
X-APPLE-STRUCTURED-LOCATION;VALUE=URI;X-ADDRESS=6691 Jungholz\, Österreich
 ;X-APPLE-RADIUS=49;X-TITLE=:geo:47.572990,10.447990
URL;VALUE=URI:https://lebenswerter-alpenraum.com/events/687286
END:VEVENT
END:VCALENDAR
