BEGIN:VCALENDAR
PRODID:-//eluceo/ical//2.0/EN
VERSION:2.0
CALSCALE:GREGORIAN
BEGIN:VEVENT
UID:hey.bayern.686531.6482022
DTSTAMP:20260424T010510Z
SUMMARY:Salzburger Frauenlauf
DTSTART;TZID=Europe/Berlin:20260515T191500
DTEND;TZID=Europe/Berlin:20260515T235959
LOCATION:5020 Salzburg\, Österreich
GEO:47.797709;13.059558
X-APPLE-STRUCTURED-LOCATION;VALUE=URI;X-ADDRESS=5020 Salzburg\, Österreich
 ;X-APPLE-RADIUS=49;X-TITLE=:geo:47.797709,13.059558
URL;VALUE=URI:https://lebenswerter-alpenraum.com/events/686531
END:VEVENT
END:VCALENDAR
