BEGIN:VCALENDAR
PRODID:-//eluceo/ical//2.0/EN
VERSION:2.0
CALSCALE:GREGORIAN
BEGIN:VEVENT
UID:hey.bayern.680846.6549133
DTSTAMP:20260420T024655Z
SUMMARY:Platzkonzert der Musikkapelle Matrei in Osttirol
DTSTART;TZID=Europe/Berlin:20260904T200000
DTEND;TZID=Europe/Berlin:20260904T235900
LOCATION:9971 Matrei in Osttirol\, Österreich
GEO:47.001000;12.538260
X-APPLE-STRUCTURED-LOCATION;VALUE=URI;X-ADDRESS=9971 Matrei in Osttirol\, 
 Österreich;X-APPLE-RADIUS=49;X-TITLE=:geo:47.001000,12.538260
URL;VALUE=URI:https://lebenswerter-alpenraum.com/events/680846
END:VEVENT
END:VCALENDAR
